BEGIN:VCALENDAR
VERSION:2.0
PRODID:GlueUp
CALSCALE:GREGORIAN
BEGIN:VTIMEZONE
TZID:UTC
BEGIN:STANDARD
DTSTART:19700101T000000
TZOFFSETFROM:+0000
TZOFFSETTO:+0000
TZNAME:UTC
END:STANDARD
END:VTIMEZONE
BEGIN:VEVENT
TZ:+00
ORGANIZER;CN=Yanyan MA:MAILTO:ma.yanyan@apecpsn.org
UID:44192-1777056603@https://apsn.glueup.cn
DTSTAMP:20260424T185003Z
DTSTART:20241021T010000Z
DTEND:20241026T090000Z
SUMMARY:APSN Forum on Green Shipping Corridors  and 16TH Meeting of APSN Council
DESCRIPTION:APSN Forum on Green Shipping Corridors  and 16TH Meeting of APSN Council by The APEC Port Services Network (APSN)\n\nOct 21 - 26, 2024(GMT+8)\n\nFor more information, click here: https://apsn.glueup.cn/my/events/44192
LOCATION:Le Meridien Hotel - Address: Jalan Tun Fuad Stephens - Sinsuran - Kota Kinabalu - Malaysia - 88000 - Tel:+60 88-322222 ;+1-80-080-6079(TOLL FREE) Sinsuran - Kota Kinabalu - Malaysia
BEGIN:VALARM
TRIGGER:-PT48H
REPEAT:4
DURATION:PT30M
ACTION:DISPLAY
END:VALARM
END:VEVENT
END:VCALENDAR